BEGIN:VCALENDAR
VERSION:2.0
PRODID:-//Haushaltswaren Strohbach - ECPv6.15.20//NONSGML v1.0//EN
CALSCALE:GREGORIAN
METHOD:PUBLISH
X-WR-CALNAME:Haushaltswaren Strohbach
X-ORIGINAL-URL:https://haushaltswaren-strohbach.de
X-WR-CALDESC:Veranstaltungen für Haushaltswaren Strohbach
REFRESH-INTERVAL;VALUE=DURATION:PT1H
X-Robots-Tag:noindex
X-PUBLISHED-TTL:PT1H
BEGIN:VTIMEZONE
TZID:UTC
BEGIN:STANDARD
TZOFFSETFROM:+0000
TZOFFSETTO:+0000
TZNAME:UTC
DTSTART:20250101T000000
END:STANDARD
END:VTIMEZONE
BEGIN:VEVENT
DTSTART;TZID=UTC:20260422T080000
DTEND;TZID=UTC:20260422T170000
DTSTAMP:20260422T125635
CREATED:20260405T174546Z
LAST-MODIFIED:20260405T174546Z
UID:1865-1776844800-1776877200@haushaltswaren-strohbach.de
SUMMARY:Calw
DESCRIPTION:
URL:https://haushaltswaren-strohbach.de/termin/calw-10/
END:VEVENT
BEGIN:VEVENT
DTSTART;TZID=UTC:20260424T080000
DTEND;TZID=UTC:20260424T170000
DTSTAMP:20260422T125635
CREATED:20260405T174621Z
LAST-MODIFIED:20260405T174621Z
UID:1868-1777017600-1777050000@haushaltswaren-strohbach.de
SUMMARY:Nürtingen
DESCRIPTION:
URL:https://haushaltswaren-strohbach.de/termin/nuertingen-6/
END:VEVENT
BEGIN:VEVENT
DTSTART;TZID=UTC:20260430T080000
DTEND;TZID=UTC:20260430T170000
DTSTAMP:20260422T125635
CREATED:20260405T174646Z
LAST-MODIFIED:20260405T174646Z
UID:1871-1777536000-1777568400@haushaltswaren-strohbach.de
SUMMARY:Nagold
DESCRIPTION:
URL:https://haushaltswaren-strohbach.de/termin/nagold-13/
END:VEVENT
END:VCALENDAR