BEGIN:VCALENDAR
VERSION:2.0
PRODID:-//Haushaltswaren Strohbach - ECPv6.15.20//NONSGML v1.0//EN
CALSCALE:GREGORIAN
METHOD:PUBLISH
X-ORIGINAL-URL:https://haushaltswaren-strohbach.de
X-WR-CALDESC:Veranstaltungen für Haushaltswaren Strohbach
REFRESH-INTERVAL;VALUE=DURATION:PT1H
X-Robots-Tag:noindex
X-PUBLISHED-TTL:PT1H
BEGIN:VTIMEZONE
TZID:UTC
BEGIN:STANDARD
TZOFFSETFROM:+0000
TZOFFSETTO:+0000
TZNAME:UTC
DTSTART:20250101T000000
END:STANDARD
END:VTIMEZONE
BEGIN:VEVENT
DTSTART;VALUE=DATE:20260302
DTEND;VALUE=DATE:20260303
DTSTAMP:20260422T145941
CREATED:20260115T084535Z
LAST-MODIFIED:20260115T084535Z
UID:1794-1772409600-1772495999@haushaltswaren-strohbach.de
SUMMARY:Kirchheim
DESCRIPTION:
URL:https://haushaltswaren-strohbach.de/termin/kirchheim-28/
END:VEVENT
BEGIN:VEVENT
DTSTART;TZID=UTC:20260303T080000
DTEND;TZID=UTC:20260303T140000
DTSTAMP:20260422T145941
CREATED:20260115T084643Z
LAST-MODIFIED:20260115T084643Z
UID:1797-1772524800-1772546400@haushaltswaren-strohbach.de
SUMMARY:Rutesheim
DESCRIPTION:
URL:https://haushaltswaren-strohbach.de/termin/rutesheim-9/
END:VEVENT
BEGIN:VEVENT
DTSTART;VALUE=DATE:20260304
DTEND;VALUE=DATE:20260305
DTSTAMP:20260422T145941
CREATED:20260115T084742Z
LAST-MODIFIED:20260115T084742Z
UID:1800-1772582400-1772668799@haushaltswaren-strohbach.de
SUMMARY:Sindelfingen
DESCRIPTION:
URL:https://haushaltswaren-strohbach.de/termin/sindelfingen-10/
END:VEVENT
BEGIN:VEVENT
DTSTART;VALUE=DATE:20260305
DTEND;VALUE=DATE:20260306
DTSTAMP:20260422T145941
CREATED:20260115T084829Z
LAST-MODIFIED:20260115T084829Z
UID:1803-1772668800-1772755199@haushaltswaren-strohbach.de
SUMMARY:Bietigheim
DESCRIPTION:
URL:https://haushaltswaren-strohbach.de/termin/bietigheim-7/
END:VEVENT
BEGIN:VEVENT
DTSTART;VALUE=DATE:20260307
DTEND;VALUE=DATE:20260308
DTSTAMP:20260422T145941
CREATED:20260115T085116Z
LAST-MODIFIED:20260115T085116Z
UID:1812-1772841600-1772927999@haushaltswaren-strohbach.de
SUMMARY:Bernhausen Pferdemarkt
DESCRIPTION:
URL:https://haushaltswaren-strohbach.de/termin/bernhausen-pferdemarkt-3/
END:VEVENT
BEGIN:VEVENT
DTSTART;VALUE=DATE:20260310
DTEND;VALUE=DATE:20260311
DTSTAMP:20260422T145941
CREATED:20260115T084908Z
LAST-MODIFIED:20260115T084908Z
UID:1806-1773100800-1773187199@haushaltswaren-strohbach.de
SUMMARY:Ditzingen
DESCRIPTION:
URL:https://haushaltswaren-strohbach.de/termin/ditzingen-11/
END:VEVENT
BEGIN:VEVENT
DTSTART;TZID=UTC:20260311T080000
DTEND;TZID=UTC:20260311T143000
DTSTAMP:20260422T145941
CREATED:20260115T085014Z
LAST-MODIFIED:20260115T085014Z
UID:1809-1773216000-1773239400@haushaltswaren-strohbach.de
SUMMARY:Pliezhausen
DESCRIPTION:
URL:https://haushaltswaren-strohbach.de/termin/pliezhausen-2/
END:VEVENT
BEGIN:VEVENT
DTSTART;VALUE=DATE:20260316
DTEND;VALUE=DATE:20260317
DTSTAMP:20260422T145941
CREATED:20260115T085458Z
LAST-MODIFIED:20260115T085458Z
UID:1815-1773619200-1773705599@haushaltswaren-strohbach.de
SUMMARY:Harthausen
DESCRIPTION:
URL:https://haushaltswaren-strohbach.de/termin/harthausen-7/
END:VEVENT
BEGIN:VEVENT
DTSTART;VALUE=DATE:20260319
DTEND;VALUE=DATE:20260320
DTSTAMP:20260422T145941
CREATED:20260115T085555Z
LAST-MODIFIED:20260115T085555Z
UID:1818-1773878400-1773964799@haushaltswaren-strohbach.de
SUMMARY:Beutelsbach
DESCRIPTION:
URL:https://haushaltswaren-strohbach.de/termin/beutelsbach-3/
END:VEVENT
BEGIN:VEVENT
DTSTART;VALUE=DATE:20260322
DTEND;VALUE=DATE:20260323
DTSTAMP:20260422T145941
CREATED:20260115T085805Z
LAST-MODIFIED:20260115T085805Z
UID:1821-1774137600-1774223999@haushaltswaren-strohbach.de
SUMMARY:Mögglingen Josefsmarkt
DESCRIPTION:
URL:https://haushaltswaren-strohbach.de/termin/moegglingen-josefsmarkt-3/
END:VEVENT
BEGIN:VEVENT
DTSTART;VALUE=DATE:20260325
DTEND;VALUE=DATE:20260326
DTSTAMP:20260422T145941
CREATED:20260115T085902Z
LAST-MODIFIED:20260115T085902Z
UID:1824-1774396800-1774483199@haushaltswaren-strohbach.de
SUMMARY:Sielmingen
DESCRIPTION:
URL:https://haushaltswaren-strohbach.de/termin/sielmingen-7/
END:VEVENT
BEGIN:VEVENT
DTSTART;VALUE=DATE:20260328
DTEND;VALUE=DATE:20260330
DTSTAMP:20260422T145941
CREATED:20260115T090029Z
LAST-MODIFIED:20260115T090029Z
UID:1827-1774656000-1774828799@haushaltswaren-strohbach.de
SUMMARY:Plattenhardt Frühlingsfest
DESCRIPTION:
URL:https://haushaltswaren-strohbach.de/termin/plattenhardt-fruehlingsfest/
END:VEVENT
BEGIN:VEVENT
DTSTART;VALUE=DATE:20260329
DTEND;VALUE=DATE:20260330
DTSTAMP:20260422T145941
CREATED:20260115T090225Z
LAST-MODIFIED:20260115T090225Z
UID:1830-1774742400-1774828799@haushaltswaren-strohbach.de
SUMMARY:Altenriet Brezelmarkt
DESCRIPTION:
URL:https://haushaltswaren-strohbach.de/termin/altenriet-brezelmarkt/
END:VEVENT
END:VCALENDAR